BEGIN:VCALENDAR
VERSION:2.0
PRODID:-//JAKKO KYUDOJO - ECPv6.15.20//NONSGML v1.0//EN
CALSCALE:GREGORIAN
METHOD:PUBLISH
X-WR-CALNAME:JAKKO KYUDOJO
X-ORIGINAL-URL:https://jakko.ch
X-WR-CALDESC:Veranstaltungen für JAKKO KYUDOJO
REFRESH-INTERVAL;VALUE=DURATION:PT1H
X-Robots-Tag:noindex
X-PUBLISHED-TTL:PT1H
BEGIN:VTIMEZONE
TZID:Europe/Zurich
BEGIN:DAYLIGHT
TZOFFSETFROM:+0100
TZOFFSETTO:+0200
TZNAME:CEST
DTSTART:20260329T010000
END:DAYLIGHT
BEGIN:STANDARD
TZOFFSETFROM:+0200
TZOFFSETTO:+0100
TZNAME:CET
DTSTART:20261025T010000
END:STANDARD
BEGIN:DAYLIGHT
TZOFFSETFROM:+0100
TZOFFSETTO:+0200
TZNAME:CEST
DTSTART:20270328T010000
END:DAYLIGHT
BEGIN:STANDARD
TZOFFSETFROM:+0200
TZOFFSETTO:+0100
TZNAME:CET
DTSTART:20271031T010000
END:STANDARD
BEGIN:DAYLIGHT
TZOFFSETFROM:+0100
TZOFFSETTO:+0200
TZNAME:CEST
DTSTART:20280326T010000
END:DAYLIGHT
BEGIN:STANDARD
TZOFFSETFROM:+0200
TZOFFSETTO:+0100
TZNAME:CET
DTSTART:20281029T010000
END:STANDARD
END:VTIMEZONE
BEGIN:VEVENT
DTSTART;TZID=Europe/Zurich:20270110T100000
DTEND;TZID=Europe/Zurich:20270110T150000
DTSTAMP:20260423T033404
CREATED:20260128T140831Z
LAST-MODIFIED:20260128T140835Z
UID:768-1799575200-1799593200@jakko.ch
SUMMARY:Neujahrsschiessen zum Jahr des Feuer-Schafs
DESCRIPTION:
URL:https://jakko.ch/event/neujahrsschiessen-zum-jahr-des-feuer-schafs/
END:VEVENT
END:VCALENDAR